BEGIN:VCALENDAR
VERSION:2.0
PRODID:-//IPCCR - ECPv6.15.20//NONSGML v1.0//EN
CALSCALE:GREGORIAN
METHOD:PUBLISH
X-ORIGINAL-URL:https://tdps-ipccr.org
X-WR-CALDESC:Events for IPCCR
REFRESH-INTERVAL;VALUE=DURATION:PT1H
X-Robots-Tag:noindex
X-PUBLISHED-TTL:PT1H
BEGIN:VTIMEZONE
TZID:UTC
BEGIN:STANDARD
TZOFFSETFROM:+0000
TZOFFSETTO:+0000
TZNAME:UTC
DTSTART:20190101T000000
END:STANDARD
END:VTIMEZONE
BEGIN:VEVENT
DTSTART;TZID=UTC:20200403T100000
DTEND;TZID=UTC:20200403T170000
DTSTAMP:20260424T162506
CREATED:20200227T214736Z
LAST-MODIFIED:20200311T172737Z
UID:720-1585908000-1585933200@tdps-ipccr.org
SUMMARY:POSTPONED: Rebels and Revels: An Exhibit and Symposium on the Theatre of the Middle East
DESCRIPTION:Rebels and Revels: An Exhibit and Symposium on the Theatre of the Middle East aims to foster a dialogue about Middle Eastern theatre in North America. Due to the dominant political narratives of the region and assumptions about representational art in Islam\, Middle Eastern theatre has been negated all together from discussions in US academia. This symposium\, and the accompanying exhibition\, will explore the ways in which theatre in the Middle East and its diaspora in North America has been shaped\, and how the artists navigate Middle Eastern theatre history and the theatrical creative process. Consequently\, the symposium will address questions such as: Is there a collective Middle Eastern Diaspora? How is it aesthetically realized? How are Middle Eastern American artists addressing and approaching their history? \nThe symposium is accompanied by a photo exhibition curated by Dr. Marjan Moosavi of the University of Toronto that focuses on the history of Middle Eastern traditional performance\, adaptations\, and original work between 1950-1970. Together\, both events audiences to the here and now\, thinking through the ways in which theatre in the Middle Eastern diaspora in North America has been shaped\, and how the artists navigate Middle Eastern theatre history and the theatrical creative process. The symposium will end with a short performance. \nThe symposium’s keynote speaker is Dr. Edward Zitar\, Professor of Theatre at New York University. Dr. Zitar is a theatre historian with particular interest in the intersections between European and Arab performance traditions. \nRSVP at https://bit.ly/32dhpuX. \nSponsored by The International Program for Creative Collaboration and Research of the School of Theatre\, Dance\, and Performance Studies at the University of Maryland. In collaboration with the Centre for Drama\, Theatre and Performance Studies at the University of Toronto.
URL:https://tdps-ipccr.org/event/rebels-and-revels-an-exhibit-and-symposium-on-the-theatre-of-the-middle-east/
LOCATION:Cafritz Theatre- The Clarice Smith Performing Arts Center\, 8270 Alumni Dr\, College Park\, MD\, 20742\, United States
END:VEVENT
BEGIN:VEVENT
DTSTART;TZID=UTC:20200302T140000
DTEND;TZID=UTC:20200302T150000
DTSTAMP:20260424T162506
CREATED:20200227T194717Z
LAST-MODIFIED:20200227T194717Z
UID:715-1583157600-1583161200@tdps-ipccr.org
SUMMARY:Victoria Scrimer and Christina Robson IPCCR Presentation
DESCRIPTION:Join Victoria Scrimer and Christina Robson as they present on their recent study abroad trip to London that focused on documentary film making!
URL:https://tdps-ipccr.org/event/victoria-scrimer-and-christina-robson-ipccr-presentation/
LOCATION:Room 1815- The Clarice Smith Performing Arts Center\, 8270 Alumni Dr\, College Park\, MD\, 20742\, United States
END:VEVENT
END:VCALENDAR